BEGIN:VCALENDAR
VERSION:2.0
PRODID:-//Çocuk Edebiyatı Zirvesi - ECPv6.3.2//NONSGML v1.0//EN
CALSCALE:GREGORIAN
METHOD:PUBLISH
X-ORIGINAL-URL:https://www.cocukedebiyatizirvesi.com
X-WR-CALDESC:Çocuk Edebiyatı Zirvesi için etkinlikler
REFRESH-INTERVAL;VALUE=DURATION:PT1H
X-Robots-Tag:noindex
X-PUBLISHED-TTL:PT1H
BEGIN:VTIMEZONE
TZID:UTC
BEGIN:STANDARD
TZOFFSETFROM:+0000
TZOFFSETTO:+0000
TZNAME:UTC
DTSTART:20220101T000000
END:STANDARD
END:VTIMEZONE
BEGIN:VEVENT
DTSTART;TZID=UTC:20220619T010000
DTEND;TZID=UTC:20240719T040000
DTSTAMP:20260423T014216
CREATED:20220321T035517Z
LAST-MODIFIED:20230510T213056Z
UID:629-1655600400-1721361600@www.cocukedebiyatizirvesi.com
SUMMARY:Use power of courses to improve skills and knowledge.
DESCRIPTION:Event is a meaningful change in character’s life\, the thing that happens during a story that transforms the world from one state into another. During a story\, the main character(protagonist) goes through a series of events\, each of them taking him closer.Event is a meaningful change in character’s life\, the thing that happens during a story that transforms the world from one state into another. During a story\, the main character(protagonist) goes through a series of events each of them.								\n				\n					\n		\n					\n		\n				\n						\n					\n			\n						\n				\n									Event is a meaningful change in character’s life\, the thing that happens during a story that transforms the world from one state into another. During a story\, the main character(protagonist) goes through a series of events each of them taking him closer.								\n				\n					\n		\n					\n		\n				\n						\n					\n			\n							\n		\n					\n		\n				\n						\n					\n			\n							\n		\n				\n			\n							\n		\n				\n			\n							\n		\n				\n			\n							\n		\n					\n		\n				\n						\n					\n			\n						\n						\n					\n			\n						\n				\n																														\n				\n					\n		\n				\n			\n						\n				\n					Adam Smith				\n				\n				\n				\n					Founder Envato				\n				\n				\n				\n					In this scenario\, you could see the total combined event count for all three categories in your reports. The Total Events metric displays all event counts for all categories that you have supplied in your implementation. However\, you will not be able to view combined metrics.
URL:https://www.cocukedebiyatizirvesi.com/event/use-power-of-courses-to-improve-skills-and-knowledge/
CATEGORIES:Online Classes,Virtual Conferences
ATTACH;FMTTYPE=image/webp:https://www.cocukedebiyatizirvesi.com/wp-content/uploads/2022/03/Group-7968.webp
END:VEVENT
END:VCALENDAR